BEGIN:VCALENDAR
VERSION:2.0
PRODID:icalendar-ruby
CALSCALE:GREGORIAN
METHOD:PUBLISH
BEGIN:VEVENT
DTSTAMP:20260421T093504Z
UID:ac95990a-9ce0-404a-8211-ad9ef6e47dbe
DTSTART:20260404T120000
DTEND:20260405T000000
DESCRIPTION:<p><strong style="color: rgb(5\, 5\, 5)\;">South Africa\, we co
 uldn’t resist bringing Anjunadeep back!</strong></p><p><br></p><p><stron
 g>April 2026\, label founders Above & Beyond will bring their Deep Set to 
 the Open Air stage for our two-date stay in South Africa. They will be joi
 ned by a host of brilliant label talent\, to be announced soon.</strong></
 p><p><br></p><p><strong>What first started as an imprint for records from 
 the deeper\, more progressive end of Above & Beyond’s club sets has beco
 me the Anjunadeep you see today. For years\, the band’s deep sets were r
 eserved for Group Therapy Milestones\, often performed to small gatherings
  of family and friends. In 2024\, Above & Beyond played their first peak-t
 ime deep set at Open Air London. And now they’re bringing this very spec
 ial experience to South Africa.</strong></p><p><br></p><p><strong>Pre-sale
  begins Wednesday\, October 8 at 12pm SAST. Sign up for access. </strong><
 /p><p><br></p><p><strong style="color: rgb(14\, 16\, 26)\;">Strictly no re
 funds.</strong></p><p><br></p><p><br></p>
LOCATION:Van Schoorsdrif Road Philadelphia off N7\, Cape Town\, Western Cap
 e
SUMMARY:Anjunadeep Open Air Cape Town 2026
URL;VALUE=URI:https://anjunadeep.howler.co.za/anjunadeepcpt2026
END:VEVENT
END:VCALENDAR
